BEGIN:VCALENDAR
VERSION:2.0
PRODID:https://www.kufer.de/kuferweb / DE
METHOD:PUBLISH
CALSCALE:GREGORIAN
X-WR-TIMEZONE:Europe/Berlin
BEGIN:VTIMEZONE
TZID:Europe/Berlin
X-LIC-LOCATION:Europe/Berlin
BEGIN:DAYLIGHT
TZOFFSETFROM:+0100
TZOFFSETTO:+0200
TZNAME:CEST
DTSTART:19700329T020000
RRULE:FREQ=YEARLY;INTERVAL=1;BYDAY=-1SU;BYMONTH=3
END:DAYLIGHT
BEGIN:STANDARD
TZOFFSETFROM:+0200
TZOFFSETTO:+0100
TZNAME:CET
DTSTART:19701025T030000
RRULE:FREQ=YEARLY;INTERVAL=1;BYDAY=-1SU;BYMONTH=10
END:STANDARD
END:VTIMEZONE
BEGIN:VEVENT
DTSTAMP:20260423T163323
DTSTART;TZID=Europe/Berlin:20280114T090000
DTEND;TZID=Europe/Berlin:20280114T170000
UID:28-DDN009-20280114T090000@AKADEMIE CORPUS ET ANIMA GMBH
SUMMARY:Naturheil-Therapeut Ausbildung Moderne und klassische Naturheilkunde, Orthomolekulare und funktionelle Medizin (28-DDN009) 
LOCATION:Limbach-Oberfrohna; KIN, Chemnitzer Str. 19, 09212 Limbach-Oberfrohna
END:VEVENT
BEGIN:VEVENT
DTSTAMP:20260423T163323
DTSTART;TZID=Europe/Berlin:20280115T090000
DTEND;TZID=Europe/Berlin:20280115T160000
UID:28-DDN009-20280115T090000@AKADEMIE CORPUS ET ANIMA GMBH
SUMMARY:Naturheil-Therapeut Ausbildung Moderne und klassische Naturheilkunde, Orthomolekulare und funktionelle Medizin (28-DDN009) 
LOCATION:Limbach-Oberfrohna; NHK, Chemnitzer Str. 19, 09212 Limbach-Oberfrohna
END:VEVENT
BEGIN:VEVENT
DTSTAMP:20260423T163323
DTSTART;TZID=Europe/Berlin:20280211T150000
DTEND;TZID=Europe/Berlin:20280211T200000
UID:28-DDN009-20280211T150000@AKADEMIE CORPUS ET ANIMA GMBH
SUMMARY:Naturheil-Therapeut Ausbildung Moderne und klassische Naturheilkunde, Orthomolekulare und funktionelle Medizin (28-DDN009) 
LOCATION:Dresden; Raum 2, Glashütter Str. 101, 01277 Dresden
END:VEVENT
BEGIN:VEVENT
DTSTAMP:20260423T163323
DTSTART;TZID=Europe/Berlin:20280212T090000
DTEND;TZID=Europe/Berlin:20280212T160000
UID:28-DDN009-20280212T090000@AKADEMIE CORPUS ET ANIMA GMBH
SUMMARY:Naturheil-Therapeut Ausbildung Moderne und klassische Naturheilkunde, Orthomolekulare und funktionelle Medizin (28-DDN009) 
LOCATION:Dresden; Raum Ambulatorium, Glashütter Str. 101, 01277 Dresden
END:VEVENT
BEGIN:VEVENT
DTSTAMP:20260423T163323
DTSTART;TZID=Europe/Berlin:20280317T150000
DTEND;TZID=Europe/Berlin:20280317T200000
UID:28-DDN009-20280317T150000@AKADEMIE CORPUS ET ANIMA GMBH
SUMMARY:Naturheil-Therapeut Ausbildung Moderne und klassische Naturheilkunde, Orthomolekulare und funktionelle Medizin (28-DDN009) 
LOCATION:Limbach-Oberfrohna; NHK, Chemnitzer Str. 19, 09212 Limbach-Oberfrohna
END:VEVENT
BEGIN:VEVENT
DTSTAMP:20260423T163323
DTSTART;TZID=Europe/Berlin:20280318T090000
DTEND;TZID=Europe/Berlin:20280318T160000
UID:28-DDN009-20280318T090000@AKADEMIE CORPUS ET ANIMA GMBH
SUMMARY:Naturheil-Therapeut Ausbildung Moderne und klassische Naturheilkunde, Orthomolekulare und funktionelle Medizin (28-DDN009) 
LOCATION:Limbach-Oberfrohna; NHK, Chemnitzer Str. 19, 09212 Limbach-Oberfrohna
END:VEVENT
BEGIN:VEVENT
DTSTAMP:20260423T163323
DTSTART;TZID=Europe/Berlin:20280407T150000
DTEND;TZID=Europe/Berlin:20280407T200000
UID:28-DDN009-20280407T150000@AKADEMIE CORPUS ET ANIMA GMBH
SUMMARY:Naturheil-Therapeut Ausbildung Moderne und klassische Naturheilkunde, Orthomolekulare und funktionelle Medizin (28-DDN009) 
LOCATION:Dresden; Raum Ambulatorium, Glashütter Str. 101, 01277 Dresden
END:VEVENT
BEGIN:VEVENT
DTSTAMP:20260423T163323
DTSTART;TZID=Europe/Berlin:20280408T090000
DTEND;TZID=Europe/Berlin:20280408T160000
UID:28-DDN009-20280408T090000@AKADEMIE CORPUS ET ANIMA GMBH
SUMMARY:Naturheil-Therapeut Ausbildung Moderne und klassische Naturheilkunde, Orthomolekulare und funktionelle Medizin (28-DDN009) 
LOCATION:Dresden; Raum Ambulatorium, Glashütter Str. 101, 01277 Dresden
END:VEVENT
BEGIN:VEVENT
DTSTAMP:20260423T163323
DTSTART;TZID=Europe/Berlin:20280505T090000
DTEND;TZID=Europe/Berlin:20280505T170000
UID:28-DDN009-20280505T090000@AKADEMIE CORPUS ET ANIMA GMBH
SUMMARY:Naturheil-Therapeut Ausbildung Moderne und klassische Naturheilkunde, Orthomolekulare und funktionelle Medizin (28-DDN009) 
LOCATION:Limbach-Oberfrohna; NHK, Chemnitzer Str. 19, 09212 Limbach-Oberfrohna
END:VEVENT
BEGIN:VEVENT
DTSTAMP:20260423T163323
DTSTART;TZID=Europe/Berlin:20280506T090000
DTEND;TZID=Europe/Berlin:20280506T160000
UID:28-DDN009-20280506T090000@AKADEMIE CORPUS ET ANIMA GMBH
SUMMARY:Naturheil-Therapeut Ausbildung Moderne und klassische Naturheilkunde, Orthomolekulare und funktionelle Medizin (28-DDN009) 
LOCATION:Limbach-Oberfrohna; NHK, Chemnitzer Str. 19, 09212 Limbach-Oberfrohna
END:VEVENT
BEGIN:VEVENT
DTSTAMP:20260423T163323
DTSTART;TZID=Europe/Berlin:20280519T090000
DTEND;TZID=Europe/Berlin:20280519T170000
UID:28-DDN009-20280519T090000@AKADEMIE CORPUS ET ANIMA GMBH
SUMMARY:Naturheil-Therapeut Ausbildung Moderne und klassische Naturheilkunde, Orthomolekulare und funktionelle Medizin (28-DDN009) 
LOCATION:Dresden; Raum 1, Glashütter Str. 101, 01277 Dresden
END:VEVENT
BEGIN:VEVENT
DTSTAMP:20260423T163323
DTSTART;TZID=Europe/Berlin:20280520T090000
DTEND;TZID=Europe/Berlin:20280520T160000
UID:28-DDN009-20280520T090000@AKADEMIE CORPUS ET ANIMA GMBH
SUMMARY:Naturheil-Therapeut Ausbildung Moderne und klassische Naturheilkunde, Orthomolekulare und funktionelle Medizin (28-DDN009) 
LOCATION:Dresden; Raum Ambulatorium, Glashütter Str. 101, 01277 Dresden
END:VEVENT
BEGIN:VEVENT
DTSTAMP:20260423T163323
DTSTART;TZID=Europe/Berlin:20280616T150000
DTEND;TZID=Europe/Berlin:20280616T200000
UID:28-DDN009-20280616T150000@AKADEMIE CORPUS ET ANIMA GMBH
SUMMARY:Naturheil-Therapeut Ausbildung Moderne und klassische Naturheilkunde, Orthomolekulare und funktionelle Medizin (28-DDN009) 
LOCATION:Limbach-Oberfrohna; NHK, Chemnitzer Str. 19, 09212 Limbach-Oberfrohna
END:VEVENT
BEGIN:VEVENT
DTSTAMP:20260423T163323
DTSTART;TZID=Europe/Berlin:20280617T090000
DTEND;TZID=Europe/Berlin:20280617T160000
UID:28-DDN009-20280617T090000@AKADEMIE CORPUS ET ANIMA GMBH
SUMMARY:Naturheil-Therapeut Ausbildung Moderne und klassische Naturheilkunde, Orthomolekulare und funktionelle Medizin (28-DDN009) 
LOCATION:Limbach-Oberfrohna; NHK, Chemnitzer Str. 19, 09212 Limbach-Oberfrohna
END:VEVENT
BEGIN:VEVENT
DTSTAMP:20260423T163323
DTSTART;TZID=Europe/Berlin:20280707T150000
DTEND;TZID=Europe/Berlin:20280707T200000
UID:28-DDN009-20280707T150000@AKADEMIE CORPUS ET ANIMA GMBH
SUMMARY:Naturheil-Therapeut Ausbildung Moderne und klassische Naturheilkunde, Orthomolekulare und funktionelle Medizin (28-DDN009) 
LOCATION:Dresden; Raum Ambulatorium, Glashütter Str. 101, 01277 Dresden
END:VEVENT
BEGIN:VEVENT
DTSTAMP:20260423T163323
DTSTART;TZID=Europe/Berlin:20280708T090000
DTEND;TZID=Europe/Berlin:20280708T160000
UID:28-DDN009-20280708T090000@AKADEMIE CORPUS ET ANIMA GMBH
SUMMARY:Naturheil-Therapeut Ausbildung Moderne und klassische Naturheilkunde, Orthomolekulare und funktionelle Medizin (28-DDN009) 
LOCATION:Dresden; Raum 1, Glashütter Str. 101, 01277 Dresden
END:VEVENT
BEGIN:VEVENT
DTSTAMP:20260423T163323
DTSTART;TZID=Europe/Berlin:20280909T090000
DTEND;TZID=Europe/Berlin:20280909T170000
UID:28-DDN009-20280909T090000@AKADEMIE CORPUS ET ANIMA GMBH
SUMMARY:Naturheil-Therapeut Ausbildung Moderne und klassische Naturheilkunde, Orthomolekulare und funktionelle Medizin (28-DDN009) 
LOCATION:Limbach-Oberfrohna; NHK, Chemnitzer Str. 19, 09212 Limbach-Oberfrohna
END:VEVENT
BEGIN:VEVENT
DTSTAMP:20260423T163323
DTSTART;TZID=Europe/Berlin:20280910T090000
DTEND;TZID=Europe/Berlin:20280910T130000
UID:28-DDN009-20280910T090000@AKADEMIE CORPUS ET ANIMA GMBH
SUMMARY:Naturheil-Therapeut Ausbildung Moderne und klassische Naturheilkunde, Orthomolekulare und funktionelle Medizin (28-DDN009) 
LOCATION:Limbach-Oberfrohna; NHK, Chemnitzer Str. 19, 09212 Limbach-Oberfrohna
END:VEVENT
BEGIN:VEVENT
DTSTAMP:20260423T163323
DTSTART;TZID=Europe/Berlin:20280929T090000
DTEND;TZID=Europe/Berlin:20280929T170000
UID:28-DDN009-20280929T090000@AKADEMIE CORPUS ET ANIMA GMBH
SUMMARY:Naturheil-Therapeut Ausbildung Moderne und klassische Naturheilkunde, Orthomolekulare und funktionelle Medizin (28-DDN009) 
LOCATION:Limbach-Oberfrohna; NHK, Chemnitzer Str. 19, 09212 Limbach-Oberfrohna
END:VEVENT
BEGIN:VEVENT
DTSTAMP:20260423T163323
DTSTART;TZID=Europe/Berlin:20280930T090000
DTEND;TZID=Europe/Berlin:20280930T160000
UID:28-DDN009-20280930T090000@AKADEMIE CORPUS ET ANIMA GMBH
SUMMARY:Naturheil-Therapeut Ausbildung Moderne und klassische Naturheilkunde, Orthomolekulare und funktionelle Medizin (28-DDN009) 
LOCATION:Limbach-Oberfrohna; KIN, Chemnitzer Str. 19, 09212 Limbach-Oberfrohna
END:VEVENT
BEGIN:VEVENT
DTSTAMP:20260423T163323
DTSTART;TZID=Europe/Berlin:20281020T150000
DTEND;TZID=Europe/Berlin:20281020T200000
UID:28-DDN009-20281020T150000@AKADEMIE CORPUS ET ANIMA GMBH
SUMMARY:Naturheil-Therapeut Ausbildung Moderne und klassische Naturheilkunde, Orthomolekulare und funktionelle Medizin (28-DDN009) 
LOCATION:Dresden; Raum 1, Glashütter Str. 101, 01277 Dresden
END:VEVENT
BEGIN:VEVENT
DTSTAMP:20260423T163323
DTSTART;TZID=Europe/Berlin:20281021T090000
DTEND;TZID=Europe/Berlin:20281021T160000
UID:28-DDN009-20281021T090000@AKADEMIE CORPUS ET ANIMA GMBH
SUMMARY:Naturheil-Therapeut Ausbildung Moderne und klassische Naturheilkunde, Orthomolekulare und funktionelle Medizin (28-DDN009) 
LOCATION:Dresden; Raum 1, Glashütter Str. 101, 01277 Dresden
END:VEVENT
BEGIN:VEVENT
DTSTAMP:20260423T163323
DTSTART;TZID=Europe/Berlin:20281110T090000
DTEND;TZID=Europe/Berlin:20281110T170000
UID:28-DDN009-20281110T090000@AKADEMIE CORPUS ET ANIMA GMBH
SUMMARY:Naturheil-Therapeut Ausbildung Moderne und klassische Naturheilkunde, Orthomolekulare und funktionelle Medizin (28-DDN009) 
LOCATION:Dresden; Raum 2, Glashütter Str. 101, 01277 Dresden
END:VEVENT
BEGIN:VEVENT
DTSTAMP:20260423T163323
DTSTART;TZID=Europe/Berlin:20281111T090000
DTEND;TZID=Europe/Berlin:20281111T160000
UID:28-DDN009-20281111T090000@AKADEMIE CORPUS ET ANIMA GMBH
SUMMARY:Naturheil-Therapeut Ausbildung Moderne und klassische Naturheilkunde, Orthomolekulare und funktionelle Medizin (28-DDN009) 
LOCATION:Dresden; Raum Ambulatorium, Glashütter Str. 101, 01277 Dresden
END:VEVENT
BEGIN:VEVENT
DTSTAMP:20260423T163323
DTSTART;TZID=Europe/Berlin:20281214T090000
DTEND;TZID=Europe/Berlin:20281214T170000
UID:28-DDN009-20281214T090000@AKADEMIE CORPUS ET ANIMA GMBH
SUMMARY:Naturheil-Therapeut Ausbildung Moderne und klassische Naturheilkunde, Orthomolekulare und funktionelle Medizin (28-DDN009) 
LOCATION:Limbach-Oberfrohna; NHK, Chemnitzer Str. 19, 09212 Limbach-Oberfrohna
END:VEVENT
BEGIN:VEVENT
DTSTAMP:20260423T163323
DTSTART;TZID=Europe/Berlin:20281215T090000
DTEND;TZID=Europe/Berlin:20281215T170000
UID:28-DDN009-20281215T090000@AKADEMIE CORPUS ET ANIMA GMBH
SUMMARY:Naturheil-Therapeut Ausbildung Moderne und klassische Naturheilkunde, Orthomolekulare und funktionelle Medizin (28-DDN009) 
LOCATION:Limbach-Oberfrohna; KIN, Chemnitzer Str. 19, 09212 Limbach-Oberfrohna
END:VEVENT
BEGIN:VEVENT
DTSTAMP:20260423T163323
DTSTART;TZID=Europe/Berlin:20281216T090000
DTEND;TZID=Europe/Berlin:20281216T160000
UID:28-DDN009-20281216T090000@AKADEMIE CORPUS ET ANIMA GMBH
SUMMARY:Naturheil-Therapeut Ausbildung Moderne und klassische Naturheilkunde, Orthomolekulare und funktionelle Medizin (28-DDN009) 
LOCATION:Limbach-Oberfrohna; NHK, Chemnitzer Str. 19, 09212 Limbach-Oberfrohna
END:VEVENT
END:VCALENDAR