BEGIN:VCALENDAR
VERSION:2.0
PRODID:https://www.kufer.de/kuferweb / DE
METHOD:PUBLISH
CALSCALE:GREGORIAN
X-WR-TIMEZONE:Europe/Berlin
BEGIN:VTIMEZONE
TZID:Europe/Berlin
X-LIC-LOCATION:Europe/Berlin
BEGIN:DAYLIGHT
TZOFFSETFROM:+0100
TZOFFSETTO:+0200
TZNAME:CEST
DTSTART:19700329T020000
RRULE:FREQ=YEARLY;INTERVAL=1;BYDAY=-1SU;BYMONTH=3
END:DAYLIGHT
BEGIN:STANDARD
TZOFFSETFROM:+0200
TZOFFSETTO:+0100
TZNAME:CET
DTSTART:19701025T030000
RRULE:FREQ=YEARLY;INTERVAL=1;BYDAY=-1SU;BYMONTH=10
END:STANDARD
END:VTIMEZONE
BEGIN:VEVENT
DTSTAMP:20260422T202607
DTSTART;TZID=Europe/Berlin:20280303T090000
DTEND;TZID=Europe/Berlin:20280303T160000
UID:28-CHK021-20280303T090000@AKADEMIE CORPUS ET ANIMA GMBH
SUMMARY:Brain Gym® 2 (28-CHK021) 
LOCATION:Limbach-Oberfrohna; KIN, Chemnitzer Str. 19, 09212 Limbach-Oberfrohna
END:VEVENT
BEGIN:VEVENT
DTSTAMP:20260422T202607
DTSTART;TZID=Europe/Berlin:20280304T090000
DTEND;TZID=Europe/Berlin:20280304T180000
UID:28-CHK021-20280304T090000@AKADEMIE CORPUS ET ANIMA GMBH
SUMMARY:Brain Gym® 2 (28-CHK021) 
LOCATION:Limbach-Oberfrohna; KIN, Chemnitzer Str. 19, 09212 Limbach-Oberfrohna
END:VEVENT
END:VCALENDAR