BEGIN:VCALENDAR
VERSION:2.0
PRODID:https://www.kufer.de/kuferweb / DE
METHOD:PUBLISH
CALSCALE:GREGORIAN
X-WR-TIMEZONE:Europe/Berlin
BEGIN:VTIMEZONE
TZID:Europe/Berlin
X-LIC-LOCATION:Europe/Berlin
BEGIN:DAYLIGHT
TZOFFSETFROM:+0100
TZOFFSETTO:+0200
TZNAME:CEST
DTSTART:19700329T020000
RRULE:FREQ=YEARLY;INTERVAL=1;BYDAY=-1SU;BYMONTH=3
END:DAYLIGHT
BEGIN:STANDARD
TZOFFSETFROM:+0200
TZOFFSETTO:+0100
TZNAME:CET
DTSTART:19701025T030000
RRULE:FREQ=YEARLY;INTERVAL=1;BYDAY=-1SU;BYMONTH=10
END:STANDARD
END:VTIMEZONE
BEGIN:VEVENT
DTSTAMP:20260422T184833
DTSTART;TZID=Europe/Berlin:20260911T093000
DTEND;TZID=Europe/Berlin:20260911T170000
UID:26-DDA005-20260911T093000@AKADEMIE CORPUS ET ANIMA GMBH
SUMMARY:Homöopathische Arbeitsgruppe Semiotik (26-DDA005) 
LOCATION:Dresden; Raum 3, Glashütter Str. 101, 01277 Dresden
END:VEVENT
BEGIN:VEVENT
DTSTAMP:20260422T184833
DTSTART;TZID=Europe/Berlin:20261113T093000
DTEND;TZID=Europe/Berlin:20261113T170000
UID:26-DDA005-20261113T093000@AKADEMIE CORPUS ET ANIMA GMBH
SUMMARY:Homöopathische Arbeitsgruppe Semiotik (26-DDA005) 
LOCATION:Dresden; Raum 3, Glashütter Str. 101, 01277 Dresden
END:VEVENT
BEGIN:VEVENT
DTSTAMP:20260422T184833
DTSTART;TZID=Europe/Berlin:20270123T093000
DTEND;TZID=Europe/Berlin:20270123T170000
UID:26-DDA005-20270123T093000@AKADEMIE CORPUS ET ANIMA GMBH
SUMMARY:Homöopathische Arbeitsgruppe Semiotik (26-DDA005) 
LOCATION:Dresden; Raum 3, Glashütter Str. 101, 01277 Dresden
END:VEVENT
BEGIN:VEVENT
DTSTAMP:20260422T184833
DTSTART;TZID=Europe/Berlin:20270319T093000
DTEND;TZID=Europe/Berlin:20270319T170000
UID:26-DDA005-20270319T093000@AKADEMIE CORPUS ET ANIMA GMBH
SUMMARY:Homöopathische Arbeitsgruppe Semiotik (26-DDA005) 
LOCATION:Dresden; Raum 3, Glashütter Str. 101, 01277 Dresden
END:VEVENT
BEGIN:VEVENT
DTSTAMP:20260422T184833
DTSTART;TZID=Europe/Berlin:20270416T093000
DTEND;TZID=Europe/Berlin:20270416T170000
UID:26-DDA005-20270416T093000@AKADEMIE CORPUS ET ANIMA GMBH
SUMMARY:Homöopathische Arbeitsgruppe Semiotik (26-DDA005) 
LOCATION:Dresden; Raum 3, Glashütter Str. 101, 01277 Dresden
END:VEVENT
BEGIN:VEVENT
DTSTAMP:20260422T184833
DTSTART;TZID=Europe/Berlin:20270522T093000
DTEND;TZID=Europe/Berlin:20270522T170000
UID:26-DDA005-20270522T093000@AKADEMIE CORPUS ET ANIMA GMBH
SUMMARY:Homöopathische Arbeitsgruppe Semiotik (26-DDA005) 
LOCATION:Dresden; Raum 3, Glashütter Str. 101, 01277 Dresden
END:VEVENT
BEGIN:VEVENT
DTSTAMP:20260422T184833
DTSTART;TZID=Europe/Berlin:20270618T093000
DTEND;TZID=Europe/Berlin:20270618T170000
UID:26-DDA005-20270618T093000@AKADEMIE CORPUS ET ANIMA GMBH
SUMMARY:Homöopathische Arbeitsgruppe Semiotik (26-DDA005) 
LOCATION:Dresden; Raum 3, Glashütter Str. 101, 01277 Dresden
END:VEVENT
END:VCALENDAR